{"text_format":"1","workbook":"xlsx","n_sheets":2,"sheets":["resultaat","printblad"],"not_rendered":{"charts":0,"images":0,"macros":1,"external_links":0,"defined_names":2,"comments":0,"pivot_tables":0},"unopened":[],"bounds":{"document_bytes":16777216,"sheet_cells":100000,"rows_first":2000,"rows_last":500,"rows_between":2000,"halvings":0,"cell_chars":16384,"cell_head_chars":4096},"cells_cut":0,"cells_raw":0,"read":"whole","date_system":"1900"}

{"sheet":"resultaat","index":0,"n_rows":17,"n_cols":8,"rows_kept":17,"cut":false,"hidden":false,"merged":[[16,2,16,3],[11,2,11,3],[12,2,12,3],[13,2,13,3],[14,2,14,3],[15,2,15,3],[6,2,6,3],[7,2,7,3],[8,2,8,3],[9,2,9,3],[10,2,10,3],[5,2,5,7],[2,4,2,6],[3,4,3,6],[2,2,2,3],[3,2,3,3],[4,2,4,3]]}
[]
[]
[null,null,"NAAM"]
[null,null,"KLAS"]
[]
[null,null,"bedrijfsresultaten"]
[]
[null,null,null,null,"bunper\nvoetbal","strand rugby","suppen op zee","blaaspijp darten"]
[null,null,"afzet",null,null,800]
[null,null,"omzet ",null,20000,4000,31447.5,14400]
[null,null,"loonkosten",null,6300,1800,2144,2000]
[null,null,"inkoopkosten materiaal",null,1500,250,3594,350]
[null,null,"overige kosten",null,2000,500,7188,98]
[null,null,"brutowinst"]
[null,null,"nettowinst"]
[]
[null,null,"verkoopprijs p.p.",null,5,5,8.75,4]

{"sheet":"printblad","index":1,"n_rows":17,"n_cols":8,"rows_kept":17,"cut":false,"hidden":false,"merged":[[7,2,7,3],[8,2,8,3],[2,4,2,6],[3,4,3,6],[2,2,2,3],[3,2,3,3],[5,2,5,7],[14,2,14,3],[16,2,16,3],[15,2,15,3],[9,2,9,3],[10,2,10,3],[11,2,11,3],[12,2,12,3],[13,2,13,3]]}
[]
[]
[null,null,{"$f":"resultaat!C3","v":"NAAM"},null,{"$f":"resultaat!E3","v":0}]
[null,null,{"$f":"resultaat!C4","v":"KLAS"},null,{"$f":"resultaat!E4","v":0}]
[]
[null,null,{"$f":"resultaat!C6","v":"bedrijfsresultaten"}]
[]
[null,null,null,null,{"$f":"resultaat!E8","v":"bunper\nvoetbal"},{"$f":"resultaat!F8","v":"strand rugby"},{"$f":"resultaat!G8","v":"suppen op zee"},{"$f":"resultaat!H8","v":"blaaspijp darten"}]
[null,null,{"$f":"resultaat!C9","v":"afzet"},null,{"$f":"resultaat!E9","v":0},{"$f":"resultaat!F9","v":800},{"$f":"resultaat!G9","v":0},{"$f":"resultaat!H9","v":0}]
[null,null,{"$f":"resultaat!C10","v":"omzet "},null,{"$f":"resultaat!E10","v":20000},{"$f":"resultaat!F10","v":4000},{"$f":"resultaat!G10","v":31447.5},{"$f":"resultaat!H10","v":14400}]
[null,null,{"$f":"resultaat!C11","v":"loonkosten"},null,{"$f":"resultaat!E11","v":6300},{"$f":"resultaat!F11","v":1800},{"$f":"resultaat!G11","v":2144},{"$f":"resultaat!H11","v":2000}]
[null,null,{"$f":"resultaat!C12","v":"inkoopkosten materiaal"},null,{"$f":"resultaat!E12","v":1500},{"$f":"resultaat!F12","v":250},{"$f":"resultaat!G12","v":3594},{"$f":"resultaat!H12","v":350}]
[null,null,{"$f":"resultaat!C13","v":"overige kosten"},null,{"$f":"resultaat!E13","v":2000},{"$f":"resultaat!F13","v":500},{"$f":"resultaat!G13","v":7188},{"$f":"resultaat!H13","v":98}]
[null,null,{"$f":"resultaat!C14","v":"brutowinst"},null,{"$f":"resultaat!E14","v":0},{"$f":"resultaat!F14","v":0},{"$f":"resultaat!G14","v":0},{"$f":"resultaat!H14","v":0}]
[null,null,{"$f":"resultaat!C15","v":"nettowinst"},null,{"$f":"resultaat!E15","v":0},{"$f":"resultaat!F15","v":0},{"$f":"resultaat!G15","v":0},{"$f":"resultaat!H15","v":0}]
[]
[null,null,{"$f":"resultaat!C17","v":"verkoopprijs p.p."},null,{"$f":"resultaat!E17","v":5},{"$f":"resultaat!F17","v":5},{"$f":"resultaat!G17","v":8.75},{"$f":"resultaat!H17","v":4}]